BEGIN:VCALENDAR
VERSION:2.0
PRODID:-//VolunteeringACT - ECPv6.15.20//NONSGML v1.0//EN
CALSCALE:GREGORIAN
METHOD:PUBLISH
X-WR-CALNAME:VolunteeringACT
X-ORIGINAL-URL:https://volunteeringact.org.au
X-WR-CALDESC:Events for VolunteeringACT
REFRESH-INTERVAL;VALUE=DURATION:PT1H
X-Robots-Tag:noindex
X-PUBLISHED-TTL:PT1H
BEGIN:VTIMEZONE
TZID:Australia/Sydney
BEGIN:STANDARD
TZOFFSETFROM:+1100
TZOFFSETTO:+1000
TZNAME:AEST
DTSTART:20220402T160000
END:STANDARD
BEGIN:DAYLIGHT
TZOFFSETFROM:+1000
TZOFFSETTO:+1100
TZNAME:AEDT
DTSTART:20221001T160000
END:DAYLIGHT
BEGIN:STANDARD
TZOFFSETFROM:+1100
TZOFFSETTO:+1000
TZNAME:AEST
DTSTART:20230401T160000
END:STANDARD
BEGIN:DAYLIGHT
TZOFFSETFROM:+1000
TZOFFSETTO:+1100
TZNAME:AEDT
DTSTART:20230930T160000
END:DAYLIGHT
BEGIN:STANDARD
TZOFFSETFROM:+1100
TZOFFSETTO:+1000
TZNAME:AEST
DTSTART:20240406T160000
END:STANDARD
BEGIN:DAYLIGHT
TZOFFSETFROM:+1000
TZOFFSETTO:+1100
TZNAME:AEDT
DTSTART:20241005T160000
END:DAYLIGHT
END:VTIMEZONE
BEGIN:VEVENT
DTSTART;TZID=Australia/Sydney:20230207T100000
DTEND;TZID=Australia/Sydney:20230207T140000
DTSTAMP:20260422T214444
CREATED:20230110T044458Z
LAST-MODIFIED:20230206T001026Z
UID:29334-1675764000-1675778400@volunteeringact.org.au
SUMMARY:National Standards for Volunteer Involvement Workshop
DESCRIPTION:The National Standards for Volunteer Involvement are a national best practice guide for volunteer involvement. \nThis four-hour workshop will assist your organisation to prepare for the implementation of the National Standards. You will begin to unpack the changes that will be needed for your organisation to meet the requirements of the National Standards and begin the process of reviewing your  organisations  performance using the Gap Analysis Tool. \nOutcomes \nBy the end of this session\, you will: \n\nbuild a comprehensive knowledge of the National Standards for Volunteer Involvement;\nidentify room for improvement in your own organisational setting;\nunderstand how to address gaps in your organisation; and\,\nbe equipped with the tools to assess and improve volunteer involvement.\n\nAll attendees will be provided with a hard copy of the National Standards Implementation Guide and Workbook. \nVolunteeringACT is committed to inclusion of people of all backgrounds and abilities. Please let us know if you have any access requirements \n 
URL:https://volunteeringact.org.au/event/national-standards-for-volunteer-involvement-workshop/
LOCATION:Pride Hub\, 85 Northborne Avenue\, Canberrra\, ACT\, 2612\, Australia
CATEGORIES:For Volunteer Involving Organisations,For Volunteer Managers,For VolunteeringACT Members
ATTACH;FMTTYPE=image/jpeg:https://volunteeringact.org.au/wp-content/uploads/2021/01/pexels-fauxels-3182812-scaled.jpg
ORGANIZER;CN="VolunteeringACT":MAILTO:events@volunteeringact.org.au
END:VEVENT
BEGIN:VEVENT
DTSTART;TZID=Australia/Sydney:20230227T100000
DTEND;TZID=Australia/Sydney:20230227T110000
DTSTAMP:20260422T214444
CREATED:20230116T050542Z
LAST-MODIFIED:20230116T050822Z
UID:29432-1677492000-1677495600@volunteeringact.org.au
SUMMARY:Online Sector Networking for Managers and Coordinators of Volunteers
DESCRIPTION:VolunteeringACT is pleased to host our latest online networking event for Managers and Coordinators of Volunteers\, on Monday 27th February 2023\, 10am – 11am \nOur monthly networking events aim to provide a platform for professionals in the volunteering sector to come together\, share information and updates\, and openly discuss current challenges we are facing\, as we continue to adapt our volunteer programs in these ever changing circumstances.  \nThe networking event will be hosted via Microsoft Teams by the VolunteeringACT Team.  \nThe theme for this session is: Planning – Professional Development & Consulting
URL:https://volunteeringact.org.au/event/online-sector-networking-for-managers-and-coordinators-of-volunteers/
LOCATION:Online\, Australia
CATEGORIES:For Volunteer Involving Organisations,For Volunteer Managers,For VolunteeringACT Members
ATTACH;FMTTYPE=image/jpeg:https://volunteeringact.org.au/wp-content/uploads/2021/09/Online-Meeting-2.jpeg
ORGANIZER;CN="VolunteeringACT":MAILTO:events@volunteeringact.org.au
END:VEVENT
END:VCALENDAR