BEGIN:VCALENDAR
VERSION:2.0
PRODID:-//VolunteeringACT - ECPv6.15.20//NONSGML v1.0//EN
CALSCALE:GREGORIAN
METHOD:PUBLISH
X-WR-CALNAME:VolunteeringACT
X-ORIGINAL-URL:https://volunteeringact.org.au
X-WR-CALDESC:Events for VolunteeringACT
REFRESH-INTERVAL;VALUE=DURATION:PT1H
X-Robots-Tag:noindex
X-PUBLISHED-TTL:PT1H
BEGIN:VTIMEZONE
TZID:Australia/Sydney
BEGIN:STANDARD
TZOFFSETFROM:+1100
TZOFFSETTO:+1000
TZNAME:AEST
DTSTART:20220402T160000
END:STANDARD
BEGIN:DAYLIGHT
TZOFFSETFROM:+1000
TZOFFSETTO:+1100
TZNAME:AEDT
DTSTART:20221001T160000
END:DAYLIGHT
BEGIN:STANDARD
TZOFFSETFROM:+1100
TZOFFSETTO:+1000
TZNAME:AEST
DTSTART:20230401T160000
END:STANDARD
BEGIN:DAYLIGHT
TZOFFSETFROM:+1000
TZOFFSETTO:+1100
TZNAME:AEDT
DTSTART:20230930T160000
END:DAYLIGHT
BEGIN:STANDARD
TZOFFSETFROM:+1100
TZOFFSETTO:+1000
TZNAME:AEST
DTSTART:20240406T160000
END:STANDARD
BEGIN:DAYLIGHT
TZOFFSETFROM:+1000
TZOFFSETTO:+1100
TZNAME:AEDT
DTSTART:20241005T160000
END:DAYLIGHT
END:VTIMEZONE
BEGIN:VEVENT
DTSTART;TZID=Australia/Sydney:20230308T093000
DTEND;TZID=Australia/Sydney:20230308T130000
DTSTAMP:20260422T202354
CREATED:20230216T221053Z
LAST-MODIFIED:20230220T041928Z
UID:29589-1678267800-1678280400@volunteeringact.org.au
SUMMARY:ACT Volunteering Strategy Consultation Session
DESCRIPTION:This is the third strategy session VolunteeringACT is running\, as part of our sector consultation process.\nIf you’re a member of VolunteeringACT\, and you’d like to be a part of your local strategy for volunteering and have your voice heard\, we’d love to have you. \nEvent Details:\nDate: Wednesday 8 March 2023Time: 9:30am – 1pmLocation: Burranda Room\, Youth Coalition of the ACT\, 46 Clianthus Street\, O’Connor ACT 2602 or attend online via Microsoft TeamsCost: Free \nVolunteeringACT is committed to inclusion of people of all backgrounds and abilities. Please let us know if you have any access requirements\, or require any additional supports such as a large print notes\, or a guide into the building.
URL:https://volunteeringact.org.au/event/volunteeringact-strategy-consultation-session/
CATEGORIES:For Volunteer Involving Organisations,For Volunteer Managers,For VolunteeringACT Members
ATTACH;FMTTYPE=image/jpeg:https://volunteeringact.org.au/wp-content/uploads/2021/01/presentation-in-front-of-the-white-board.jpg
ORGANIZER;CN="VolunteeringACT":MAILTO:events@volunteeringact.org.au
END:VEVENT
BEGIN:VEVENT
DTSTART;TZID=Australia/Sydney:20230315T100000
DTEND;TZID=Australia/Sydney:20230315T120000
DTSTAMP:20260422T202354
CREATED:20230110T045804Z
LAST-MODIFIED:20230206T001148Z
UID:29345-1678874400-1678881600@volunteeringact.org.au
SUMMARY:Inclusive Volunteering for Organisations - In Person Session
DESCRIPTION:Inclusion matters. Based on key learnings from the Inclusive Volunteering Pathways to Employment Program\, this engaging workshop will explore how to build an inclusive community where people of all abilities and backgrounds can contribute. \nThe workshop will explore the positive outcomes of inclusive volunteering by reviewing case studies and utilising practical tips to increase inclusion. This workshop will provide you with the skills to remove the barriers to volunteering and provide you with the tools to help people find meaningful volunteering opportunities.  You will be challenged to consider the benefits that can be unlocked through volunteering\, including a stronger sense of social inclusion in your workplace. Identifying barriers to inclusion and understanding simple solutions for removing these barriers will be explored from both the individual and organisation. \nOutcomes: \nBy the end of this session\, you will: \n\nunderstand Inclusive Volunteering;\nunderstand why we strive to be inclusive​;\nbe able to identify barriers to inclusion​​;\nhave knowledge to reduce the impact of barriers​​; and\,\nunderstand what it means to be part of an inclusive team.\n\nThis training is free (valued at $80 and paid for by the Australian Government.) \nVolunteering ACT is committed to inclusion of people of all backgrounds and abilities. Please let us know if you have any access requirement
URL:https://volunteeringact.org.au/event/inclusive-volunteering-for-organisations-in-person-session/
LOCATION:Pride Hub\, 85 Northborne Avenue\, Canberrra\, ACT\, 2612\, Australia
CATEGORIES:For Volunteer Involving Organisations,For Volunteer Managers,For VolunteeringACT Members
ATTACH;FMTTYPE=image/jpeg:https://volunteeringact.org.au/wp-content/uploads/2020/06/DSC04970-1-scaled.jpg
ORGANIZER;CN="VolunteeringACT":MAILTO:events@volunteeringact.org.au
END:VEVENT
BEGIN:VEVENT
DTSTART;TZID=Australia/Sydney:20230323T090000
DTEND;TZID=Australia/Sydney:20230323T170000
DTSTAMP:20260422T202354
CREATED:20230110T045010Z
LAST-MODIFIED:20230206T021030Z
UID:29341-1679562000-1679590800@volunteeringact.org.au
SUMMARY:Essentials for Volunteer Managers
DESCRIPTION:The Essentials for Volunteer Managers workshop covers theory and practice on the volunteer management cycle\, including: \n\nthe fundamentals of volunteer management\, including policies\, procedures and legislation\nplanning for the involvement of volunteers\nrecruitment and ongoing management of volunteers\ntroubleshooting common issues\nappropriately recognising volunteers\n\nThis full day\, interactive workshop will introduce the legal requirements underpinning volunteer involvement\, explore research and theory on volunteer motivations\, and provide practical tools to support you to implement a robust volunteering program in your organisation. \nAll attendees are provided with a workbook.\nMorning tea and lunch is provided. \nOutcomes: \nBy the end of this workshop you will: \n\nunderstand the volunteer management cycle;\nbe equipped with the tools to implement or review a volunteering program; and\,\nlearn from the shared experience of all attendees and presenters.\n\nEvent Details:\nDate: Thursday March 23rd\, 2023Time: 9am – 5pm Location: Meridian Pride Hub – 85 Northborne AvenueCost: Face to Face $250.00 for Members – $350.00 for Non-Members.  \nVolunteeringACT is committed to inclusion of people of all backgrounds and abilities. Please let us know if you have any access requirements
URL:https://volunteeringact.org.au/event/essentials-for-volunteer-managers-4/
LOCATION:Pride Hub\, 85 Northborne Avenue\, Canberrra\, ACT\, 2612\, Australia
CATEGORIES:For Volunteer Involving Organisations,For Volunteer Managers,For VolunteeringACT Members
ATTACH;FMTTYPE=image/jpeg:https://volunteeringact.org.au/wp-content/uploads/2020/10/christina-wocintechchat-com-yyp_HpXrUfw-unsplash-scaled.jpg
ORGANIZER;CN="VolunteeringACT":MAILTO:events@volunteeringact.org.au
END:VEVENT
BEGIN:VEVENT
DTSTART;TZID=Australia/Sydney:20230327T140000
DTEND;TZID=Australia/Sydney:20230327T150000
DTSTAMP:20260422T202354
CREATED:20230116T051141Z
LAST-MODIFIED:20230116T051141Z
UID:29435-1679925600-1679929200@volunteeringact.org.au
SUMMARY:Online Sector Networking for Managers and Coordinators of Volunteers
DESCRIPTION:VolunteeringACT is pleased to host our latest online networking event for Managers and Coordinators of Volunteers\, on Monday 27th March 2023\, 2pm-3pm \nOur monthly networking events aim to provide a platform for professionals in the volunteering sector to come together\, share information and updates\, and openly discuss current challenges we are facing\, as we continue to adapt our volunteer programs in these ever changing circumstances.  \nThe networking event will be hosted via Microsoft Teams by the VolunteeringACT Team.  \nThe theme for this session will be announced closer to the date.
URL:https://volunteeringact.org.au/event/online-sector-networking-for-managers-and-coordinators-of-volunteers-2/
LOCATION:Online\, Australia
CATEGORIES:For Volunteer Involving Organisations,For Volunteer Managers,For VolunteeringACT Members
ATTACH;FMTTYPE=image/jpeg:https://volunteeringact.org.au/wp-content/uploads/2021/09/Online-Meeting-2.jpeg
ORGANIZER;CN="VolunteeringACT":MAILTO:events@volunteeringact.org.au
END:VEVENT
BEGIN:VEVENT
DTSTART;TZID=Australia/Sydney:20230329T100000
DTEND;TZID=Australia/Sydney:20230329T120000
DTSTAMP:20260422T202354
CREATED:20230110T050601Z
LAST-MODIFIED:20230223T024953Z
UID:29348-1680084000-1680091200@volunteeringact.org.au
SUMMARY:Wellbeing & Boundaries in Volunteering Workshop
DESCRIPTION:As a volunteer or volunteer coordinator\, it can be difficult to maintain boundaries in your role and with those you work with. This workshop will identify what boundaries are\, why boundaries & mental wellbeing are so important\, and how to manage difficult situations\, how we can apply mental health\, wellbeing & resilience to volunteering. \nThis training is delivered in a hybrid format. Attendance is available both in person and online via Teams video. \nDate: Wednesday 29th March \nTime: 10am – 12pm \nCost: Free \nTea\, Coffee & light catering will be available.
URL:https://volunteeringact.org.au/event/wellbeing-boundaries-in-volunteering-workshop-3/
LOCATION:Pride Hub\, 85 Northborne Avenue\, Canberrra\, ACT\, 2612\, Australia
CATEGORIES:For Volunteer Managers,For VolunteeringACT Members,For Volunteers
ATTACH;FMTTYPE=image/jpeg:https://volunteeringact.org.au/wp-content/uploads/2021/07/pexels-startup-stock-photos-7096-1.jpg
ORGANIZER;CN="VolunteeringACT":MAILTO:events@volunteeringact.org.au
END:VEVENT
END:VCALENDAR