BEGIN:VCALENDAR
VERSION:2.0
PRODID:-//VolunteeringACT - ECPv6.15.17.1//NONSGML v1.0//EN
CALSCALE:GREGORIAN
METHOD:PUBLISH
X-WR-CALNAME:VolunteeringACT
X-ORIGINAL-URL:https://volunteeringact.org.au
X-WR-CALDESC:Events for VolunteeringACT
REFRESH-INTERVAL;VALUE=DURATION:PT1H
X-Robots-Tag:noindex
X-PUBLISHED-TTL:PT1H
BEGIN:VTIMEZONE
TZID:Australia/Sydney
BEGIN:STANDARD
TZOFFSETFROM:+1100
TZOFFSETTO:+1000
TZNAME:AEST
DTSTART:20220402T160000
END:STANDARD
BEGIN:DAYLIGHT
TZOFFSETFROM:+1000
TZOFFSETTO:+1100
TZNAME:AEDT
DTSTART:20221001T160000
END:DAYLIGHT
BEGIN:STANDARD
TZOFFSETFROM:+1100
TZOFFSETTO:+1000
TZNAME:AEST
DTSTART:20230401T160000
END:STANDARD
BEGIN:DAYLIGHT
TZOFFSETFROM:+1000
TZOFFSETTO:+1100
TZNAME:AEDT
DTSTART:20230930T160000
END:DAYLIGHT
BEGIN:STANDARD
TZOFFSETFROM:+1100
TZOFFSETTO:+1000
TZNAME:AEST
DTSTART:20240406T160000
END:STANDARD
BEGIN:DAYLIGHT
TZOFFSETFROM:+1000
TZOFFSETTO:+1100
TZNAME:AEDT
DTSTART:20241005T160000
END:DAYLIGHT
END:VTIMEZONE
BEGIN:VEVENT
DTSTART;TZID=Australia/Sydney:20230904T100000
DTEND;TZID=Australia/Sydney:20230904T110000
DTSTAMP:20260420T222617
CREATED:20230803T033558Z
LAST-MODIFIED:20230821T013217Z
UID:30819-1693821600-1693825200@volunteeringact.org.au
SUMMARY:Online Sector Networking for Managers and Coordinators of Volunteers
DESCRIPTION:VolunteeringACT is pleased to host our latest online networking event for Managers and Coordinators of Volunteers\,\nDate – Monday 4 September 2023\nTime – 10am – 11am\nLocation – Online [Microsoft Teams] \nOur monthly networking events aim to provide a platform for professionals in the volunteering sector to come together\, share information and updates\, and openly discuss current challenges we are facing\, as we continue to adapt our volunteer programs in these ever-changing circumstances.  \nThe networking event will be hosted via Microsoft Teams by the VolunteeringACT Team.\nA meeting link will be sent to all registered attendees prior to the session. \nThe theme for this session is Volunteer Retention. During this session we will cover:\n– What does good volunteer retention mean?\n– Retention & Recruitment cycles\n– Understanding changing volunteer motivations
URL:https://volunteeringact.org.au/event/online-sector-networking-for-managers-and-coordinators-of-volunteers-5/
LOCATION:Online\, Australia
CATEGORIES:For Volunteer Involving Organisations,For Volunteer Managers,For VolunteeringACT Members
ATTACH;FMTTYPE=image/jpeg:https://volunteeringact.org.au/wp-content/uploads/2021/09/Online-Meeting-2.jpeg
ORGANIZER;CN="VolunteeringACT":MAILTO:events@volunteeringact.org.au
END:VEVENT
BEGIN:VEVENT
DTSTART;TZID=Australia/Sydney:20230906T100000
DTEND;TZID=Australia/Sydney:20230906T120000
DTSTAMP:20260420T222617
CREATED:20230116T002952Z
LAST-MODIFIED:20230116T002952Z
UID:29412-1693994400-1694001600@volunteeringact.org.au
SUMMARY:Wellbeing & Boundaries in Volunteering Workshop
DESCRIPTION:As a volunteer or volunteer coordinator\, it can be difficult to maintain boundaries in your role and with those you work with. This workshop will identify what boundaries are\, why boundaries & mental wellbeing are so important\, and how to manage difficult situations\, how we can apply mental health\, wellbeing & resilience to volunteering. \nThis training is delivered in a hybrid format. Attendance is available both in person and online via Teams video. \nDate: Wednesday 6th September \nTime: 10am – 12pm \nCost: Free \nTea\, Coffee & light catering will be available.
URL:https://volunteeringact.org.au/event/wellbeing-boundaries-in-volunteering-workshop-5/
CATEGORIES:For Volunteer Managers,For VolunteeringACT Members,For Volunteers
ATTACH;FMTTYPE=image/jpeg:https://volunteeringact.org.au/wp-content/uploads/2021/07/pexels-startup-stock-photos-7096-1.jpg
ORGANIZER;CN="VolunteeringACT":MAILTO:events@volunteeringact.org.au
END:VEVENT
BEGIN:VEVENT
DTSTART;TZID=Australia/Sydney:20230918T100000
DTEND;TZID=Australia/Sydney:20230918T120000
DTSTAMP:20260420T222617
CREATED:20230912T043850Z
LAST-MODIFIED:20230912T050621Z
UID:31148-1695031200-1695038400@volunteeringact.org.au
SUMMARY:Online Consultation: National Multicultural Framework Review
DESCRIPTION:VolunteeringACT are conducting a consultation with our community to inform our submission to the National Multicultural Framework Review. \nThis Review will help the Government to ensure migrants are supported and that government plays a critical role in supporting our inclusive and cohesive multicultural society\, ensuring we continue to enjoy it’s social and economic benefits! \nOnline community consultation: \nDate – Monday 18 Sept \nTime – 10am-12pm \nLocation – Online via MicrosoftTeams (The link will be sent to registered attendees before the session) \nCost: FREE / Online \nThe Consultation session will support VolunteeringACT to design a submission which reflects our community\, it’s insights and the value of volunteering in multicultural communities. \nA simple online form is also available for anyone who can’t attend. \nWe would love to hear from any multicultural organisations in our networks who are also making a submission!\nIf you would like to complete the online form\, or feedback in another way please email us at policy@volunteeringact.org.au. \nVolunteeringACT is committed to inclusion of people of all backgrounds and abilities. Please let us know if you have any access requirements\, or require any additional support. \nFind out more about the review here – https://www.homeaffairs.gov.au/about-us/our-portfolios/multicultural-framework-review/about-the-multicultural-framework-review
URL:https://volunteeringact.org.au/event/online-consultation-national-multicultural-framework-review/
LOCATION:Online\, Australia
CATEGORIES:For Volunteer Involving Organisations,For Volunteer Managers,For VolunteeringACT Members
ORGANIZER;CN="VolunteeringACT":MAILTO:events@volunteeringact.org.au
END:VEVENT
END:VCALENDAR