BEGIN:VCALENDAR
VERSION:2.0
PRODID:-//VolunteeringACT - ECPv6.15.20//NONSGML v1.0//EN
CALSCALE:GREGORIAN
METHOD:PUBLISH
X-WR-CALNAME:VolunteeringACT
X-ORIGINAL-URL:https://volunteeringact.org.au
X-WR-CALDESC:Events for VolunteeringACT
REFRESH-INTERVAL;VALUE=DURATION:PT1H
X-Robots-Tag:noindex
X-PUBLISHED-TTL:PT1H
BEGIN:VTIMEZONE
TZID:Australia/Sydney
BEGIN:STANDARD
TZOFFSETFROM:+1100
TZOFFSETTO:+1000
TZNAME:AEST
DTSTART:20220402T160000
END:STANDARD
BEGIN:DAYLIGHT
TZOFFSETFROM:+1000
TZOFFSETTO:+1100
TZNAME:AEDT
DTSTART:20221001T160000
END:DAYLIGHT
BEGIN:STANDARD
TZOFFSETFROM:+1100
TZOFFSETTO:+1000
TZNAME:AEST
DTSTART:20230401T160000
END:STANDARD
BEGIN:DAYLIGHT
TZOFFSETFROM:+1000
TZOFFSETTO:+1100
TZNAME:AEDT
DTSTART:20230930T160000
END:DAYLIGHT
BEGIN:STANDARD
TZOFFSETFROM:+1100
TZOFFSETTO:+1000
TZNAME:AEST
DTSTART:20240406T160000
END:STANDARD
BEGIN:DAYLIGHT
TZOFFSETFROM:+1000
TZOFFSETTO:+1100
TZNAME:AEDT
DTSTART:20241005T160000
END:DAYLIGHT
END:VTIMEZONE
BEGIN:VEVENT
DTSTART;TZID=Australia/Sydney:20231109T090000
DTEND;TZID=Australia/Sydney:20231109T130000
DTSTAMP:20260422T214041
CREATED:20230201T041821Z
LAST-MODIFIED:20230721T005201Z
UID:29525-1699520400-1699534800@volunteeringact.org.au
SUMMARY:Volunteer Mentoring Workshop
DESCRIPTION:This Volunteer Mentoring Training is aimed at volunteers operating in a leadership or mentoring capacity\, either for fellow volunteers or participants or clients of their organisation.\nThis four-hour workshop will outline all that mentoring entails including the mentoring relationship journey and framework\, identifying risks\, maintaining boundaries\, and developing mentoring skills. \nOutcomes \n\nDevelop mentoring skills:\n\nIdentifying needs & barriers\nProblem Solving\nStrengths based approach\nGoal Setting\n\n\nBuild a comprehensive knowledge of a mentors’ role and responsibilities.\nBe equipped with the tools & resources to develop a mentoring program.\n\nAll attendees will receive a physical Mentoring Handbook. \nCatering will be provided. \nVolunteeringACT is committed to inclusion of people of all backgrounds and abilities. Please let us know if you have any access or support requirements.\nFees for this training should be paid by the organisation the volunteer mentor is working at\, volunteers should not incur any out-of-pocket expenses as part of their role or development.
URL:https://volunteeringact.org.au/event/volunteer-mentoring-workshop-3/
LOCATION:Events & Training Hub\, 202\, City Walk\, Canberrra\, ACT\, 2611\, Australia
CATEGORIES:For Volunteer Involving Organisations,For Volunteer Managers,For VolunteeringACT Members
ATTACH;FMTTYPE=image/jpeg:https://volunteeringact.org.au/wp-content/uploads/2021/01/krakenimages-376KN_ISplE-unsplash.jpg
ORGANIZER;CN="VolunteeringACT":MAILTO:events@volunteeringact.org.au
END:VEVENT
BEGIN:VEVENT
DTSTART;TZID=Australia/Sydney:20231130T110000
DTEND;TZID=Australia/Sydney:20231130T120000
DTSTAMP:20260422T214041
CREATED:20231106T014953Z
LAST-MODIFIED:20231128T074224Z
UID:31502-1701342000-1701345600@volunteeringact.org.au
SUMMARY:Cyber Security over the Summer Holidays - free webinar
DESCRIPTION:Don’t let the cybersecurity grinch ruin your summer holidays!\nThis free webinar will explore tips for reducing your cyber security risks this festive time of year. \nVolunteeringACT are working with Tammy Ven Dange from Roundbox consulting to host 4 free online training workshops on Cyber Security.\nAs a former charity CEO and not for profit Board member with a background in IT\, Tammy understands the unique challenges that not for profits face when considering IT and cyber security. \nThis webinar aims to support not for profits to understand cyber security risks over the holiday break\, and support IT risk mitigation. \nEvent Details:\nDate: Thursday November 30Time: 11am – 12pmLocation: Online via Microsoft Teams\, link sent to registered attendees prior to the sessionCost: FREE \nVolunteeringACT is committed to inclusion of people of all backgrounds and abilities. Please let us know if you have any access requirements or require any additional supports. \n 
URL:https://volunteeringact.org.au/event/cyber-security-over-the-summer-holidays-free-webinar/
LOCATION:Online\, Australia
CATEGORIES:For Volunteer Involving Organisations,For Volunteer Managers,For VolunteeringACT Members
ATTACH;FMTTYPE=image/jpeg:https://volunteeringact.org.au/wp-content/uploads/2021/09/Online-Meeting-3.jpeg
ORGANIZER;CN="VolunteeringACT":MAILTO:events@volunteeringact.org.au
END:VEVENT
END:VCALENDAR