BEGIN:VCALENDAR
VERSION:2.0
PRODID:-//VolunteeringACT - ECPv6.15.20//NONSGML v1.0//EN
CALSCALE:GREGORIAN
METHOD:PUBLISH
X-WR-CALNAME:VolunteeringACT
X-ORIGINAL-URL:https://volunteeringact.org.au
X-WR-CALDESC:Events for VolunteeringACT
REFRESH-INTERVAL;VALUE=DURATION:PT1H
X-Robots-Tag:noindex
X-PUBLISHED-TTL:PT1H
BEGIN:VTIMEZONE
TZID:Australia/Sydney
BEGIN:STANDARD
TZOFFSETFROM:+1100
TZOFFSETTO:+1000
TZNAME:AEST
DTSTART:20230401T160000
END:STANDARD
BEGIN:DAYLIGHT
TZOFFSETFROM:+1000
TZOFFSETTO:+1100
TZNAME:AEDT
DTSTART:20230930T160000
END:DAYLIGHT
BEGIN:STANDARD
TZOFFSETFROM:+1100
TZOFFSETTO:+1000
TZNAME:AEST
DTSTART:20240406T160000
END:STANDARD
BEGIN:DAYLIGHT
TZOFFSETFROM:+1000
TZOFFSETTO:+1100
TZNAME:AEDT
DTSTART:20241005T160000
END:DAYLIGHT
BEGIN:STANDARD
TZOFFSETFROM:+1100
TZOFFSETTO:+1000
TZNAME:AEST
DTSTART:20250405T160000
END:STANDARD
BEGIN:DAYLIGHT
TZOFFSETFROM:+1000
TZOFFSETTO:+1100
TZNAME:AEDT
DTSTART:20251004T160000
END:DAYLIGHT
END:VTIMEZONE
BEGIN:VEVENT
DTSTART;TZID=Australia/Sydney:20240129T140000
DTEND;TZID=Australia/Sydney:20240129T150000
DTSTAMP:20260423T005014
CREATED:20231207T225153Z
LAST-MODIFIED:20240125T022253Z
UID:31818-1706536800-1706540400@volunteeringact.org.au
SUMMARY:January- Online Sector Networking for Managers and Coordinators of Volunteers
DESCRIPTION:VolunteeringACT is pleased to host our final online networking event of the year.\nDate – Monday 29 January 2024\nTime – 2pm-3pm\nLocation – Online [Microsoft Teams] \nOur monthly networking events aim to provide a platform for professionals in the volunteering sector to come together\, share information and updates\, and openly discuss current challenges we are facing\, as we continue to adapt our volunteer programs in these ever-changing circumstances.  \nThe networking event will be hosted via Microsoft Teams by the VolunteeringACT Team.\nA meeting link will be sent to all registered attendees prior to the session. \nThe theme for this session is Maintaining Service Boundaries\nDuring this session we will discuss:\n– Setting clear boundaries for your program and service\n– Communicating those boundaries\n– Providing volunteers with support
URL:https://volunteeringact.org.au/event/december-online-sector-networking-for-managers-and-coordinators-of-volunteers-copy/
LOCATION:Online\, Australia
CATEGORIES:For Volunteer Involving Organisations,For Volunteer Managers,For VolunteeringACT Members
ATTACH;FMTTYPE=image/jpeg:https://volunteeringact.org.au/wp-content/uploads/2020/05/VACT_-108-1.jpg
ORGANIZER;CN="VolunteeringACT":MAILTO:events@volunteeringact.org.au
END:VEVENT
END:VCALENDAR