BEGIN:VCALENDAR
VERSION:2.0
PRODID:-//VolunteeringACT - ECPv6.15.17.1//NONSGML v1.0//EN
CALSCALE:GREGORIAN
METHOD:PUBLISH
X-WR-CALNAME:VolunteeringACT
X-ORIGINAL-URL:https://volunteeringact.org.au
X-WR-CALDESC:Events for VolunteeringACT
REFRESH-INTERVAL;VALUE=DURATION:PT1H
X-Robots-Tag:noindex
X-PUBLISHED-TTL:PT1H
BEGIN:VTIMEZONE
TZID:Australia/Sydney
BEGIN:STANDARD
TZOFFSETFROM:+1100
TZOFFSETTO:+1000
TZNAME:AEST
DTSTART:20220402T160000
END:STANDARD
BEGIN:DAYLIGHT
TZOFFSETFROM:+1000
TZOFFSETTO:+1100
TZNAME:AEDT
DTSTART:20221001T160000
END:DAYLIGHT
BEGIN:STANDARD
TZOFFSETFROM:+1100
TZOFFSETTO:+1000
TZNAME:AEST
DTSTART:20230401T160000
END:STANDARD
BEGIN:DAYLIGHT
TZOFFSETFROM:+1000
TZOFFSETTO:+1100
TZNAME:AEDT
DTSTART:20230930T160000
END:DAYLIGHT
BEGIN:STANDARD
TZOFFSETFROM:+1100
TZOFFSETTO:+1000
TZNAME:AEST
DTSTART:20240406T160000
END:STANDARD
BEGIN:DAYLIGHT
TZOFFSETFROM:+1000
TZOFFSETTO:+1100
TZNAME:AEDT
DTSTART:20241005T160000
END:DAYLIGHT
END:VTIMEZONE
BEGIN:VEVENT
DTSTART;TZID=Australia/Sydney:20230704T093000
DTEND;TZID=Australia/Sydney:20230704T120000
DTSTAMP:20260420T205750
CREATED:20230623T000242Z
LAST-MODIFIED:20230628T225031Z
UID:30587-1688463000-1688472000@volunteeringact.org.au
SUMMARY:Consultation online: ACT Health Directorate Mental Health Services Commissioning Blueprint
DESCRIPTION:The ACT Health Directorate (ACTHD) has extended their timeframe for the consultation process on their new approach to commissioning community-based NGO mental health services in the ACT. ACTHD are seeking feedback on their Blueprint that sets out the future vision for the NGO funded mental health sector and are looking for ideas about how they can put it into practice. The revised deadline for feedback is now Friday 7 July 2023. \nThis is an important and timely consultation for the volunteering sector to connect with\, as feedback received will be used to inform the investment strategy for ACTHD’s mental health subsector commissioning. There is an opportunity to draw links with our recently published Listening Report and ACT Volunteering Strategy development work and highlight how volunteering activities and contributions support/enhance mental health service delivery\, frequently achieve positive mental health and wellbeing outcomes\, and are a smart investment for more resourcing within the future mental health service system. \nVolunteeringACT will be making a collective response on behalf of the volunteering sector and will be holding an online consultation session for any interested VIOs. We would love to hear from any mental health organisations in our networks who are also making a submission\, and VIOs can also send any feedback on the Blueprint directly to us via email at policy@volunteeringact.org.au. \nFor background information and the full consultation documents\, please click here. \nConsultation session details:\nDate:  Tuesday 4 July 2023\nTime: 9:30 am – 12:00 pm\nLocation: Online – After registration\, a Microsoft Team’s link will be sent out to the participants\nCost: FREE / Online \nVolunteeringACT is committed to inclusion of people of all backgrounds and abilities. Please let us know if you have any access requirements\, or require any additional support.
URL:https://volunteeringact.org.au/event/consultation-online-act-health-directorate-mental-health-services-commissioning-blueprint/
LOCATION:Online\, Australia
CATEGORIES:For Volunteer Involving Organisations,For Volunteer Managers,For VolunteeringACT Members
ORGANIZER;CN="VolunteeringACT":MAILTO:events@volunteeringact.org.au
END:VEVENT
BEGIN:VEVENT
DTSTART;TZID=Australia/Sydney:20230704T140000
DTEND;TZID=Australia/Sydney:20230704T160000
DTSTAMP:20260420T205750
CREATED:20230115T234235Z
LAST-MODIFIED:20230531T062511Z
UID:29391-1688479200-1688486400@volunteeringact.org.au
SUMMARY:Wellbeing & Boundaries in Volunteering Workshop
DESCRIPTION:As a volunteer or volunteer coordinator\, it can be difficult to maintain boundaries in your role and with those you work with. This workshop will identify what boundaries are\, why boundaries & mental wellbeing are so important\, and how to manage difficult situations\, how we can apply mental health\, wellbeing & resilience to volunteering. \nThis training is delivered in a hybrid format. Attendance is available both in person and online via Teams video. \nDate: Tuesday July 4th \nTime: 2pm – 4pm \nCost: Free \nTea\, Coffee & light catering will be available.
URL:https://volunteeringact.org.au/event/wellbeing-boundaries-in-volunteering-workshop-4/
LOCATION:Events & Training Hub\, 202\, City Walk\, Canberrra\, ACT\, 2611\, Australia
CATEGORIES:For Volunteer Managers,For VolunteeringACT Members,For Volunteers
ATTACH;FMTTYPE=image/jpeg:https://volunteeringact.org.au/wp-content/uploads/2021/07/pexels-startup-stock-photos-7096-1.jpg
ORGANIZER;CN="VolunteeringACT":MAILTO:events@volunteeringact.org.au
END:VEVENT
END:VCALENDAR