BEGIN:VCALENDAR
VERSION:2.0
PRODID:-//VolunteeringACT - ECPv6.15.17.1//NONSGML v1.0//EN
CALSCALE:GREGORIAN
METHOD:PUBLISH
X-ORIGINAL-URL:https://volunteeringact.org.au
X-WR-CALDESC:Events for VolunteeringACT
REFRESH-INTERVAL;VALUE=DURATION:PT1H
X-Robots-Tag:noindex
X-PUBLISHED-TTL:PT1H
BEGIN:VTIMEZONE
TZID:Australia/Sydney
BEGIN:STANDARD
TZOFFSETFROM:+1100
TZOFFSETTO:+1000
TZNAME:AEST
DTSTART:20220402T160000
END:STANDARD
BEGIN:DAYLIGHT
TZOFFSETFROM:+1000
TZOFFSETTO:+1100
TZNAME:AEDT
DTSTART:20221001T160000
END:DAYLIGHT
BEGIN:STANDARD
TZOFFSETFROM:+1100
TZOFFSETTO:+1000
TZNAME:AEST
DTSTART:20230401T160000
END:STANDARD
BEGIN:DAYLIGHT
TZOFFSETFROM:+1000
TZOFFSETTO:+1100
TZNAME:AEDT
DTSTART:20230930T160000
END:DAYLIGHT
BEGIN:STANDARD
TZOFFSETFROM:+1100
TZOFFSETTO:+1000
TZNAME:AEST
DTSTART:20240406T160000
END:STANDARD
BEGIN:DAYLIGHT
TZOFFSETFROM:+1000
TZOFFSETTO:+1100
TZNAME:AEDT
DTSTART:20241005T160000
END:DAYLIGHT
END:VTIMEZONE
BEGIN:VEVENT
DTSTART;TZID=Australia/Sydney:20230710T100000
DTEND;TZID=Australia/Sydney:20230710T110000
DTSTAMP:20260420T204011
CREATED:20230627T045959Z
LAST-MODIFIED:20230627T045959Z
UID:30640-1688983200-1688986800@volunteeringact.org.au
SUMMARY:Online Sector Networking for Managers and Coordinators of Volunteers
DESCRIPTION:VolunteeringACT is pleased to host our latest online networking event for Managers and Coordinators of Volunteers\,\nDate – Monday 10th July 2023\nTime – 10am – 11am\nLocation – Online [Microsoft Teams] \nOur monthly networking events aim to provide a platform for professionals in the volunteering sector to come together\, share information and updates\, and openly discuss current challenges we are facing\, as we continue to adapt our volunteer programs in these ever changing circumstances.  \nThe networking event will be hosted via Microsoft Teams by the VolunteeringACT Team.\nA meeting link will be sent to all registered attendees prior to the session. \nThe theme for this session will be Annual Reporting and telling volunteer stories!\nFor this session we will be discussing:\n– Membership renewals for 2023-2024 financial year\n– Volunteer Insurance updates\n– Annual Reporting & telling volunteer stories\n– Communication techniques\n– Feeding back to volunteers
URL:https://volunteeringact.org.au/event/online-sector-networking-for-managers-and-coordinators-of-volunteers-3/
LOCATION:Online\, Australia
CATEGORIES:For Volunteer Involving Organisations,For Volunteer Managers,For VolunteeringACT Members
ATTACH;FMTTYPE=image/jpeg:https://volunteeringact.org.au/wp-content/uploads/2021/09/Online-Meeting-2.jpeg
ORGANIZER;CN="VolunteeringACT":MAILTO:events@volunteeringact.org.au
END:VEVENT
END:VCALENDAR