BEGIN:VCALENDAR
VERSION:2.0
PRODID:-//VolunteeringACT - ECPv6.15.20//NONSGML v1.0//EN
CALSCALE:GREGORIAN
METHOD:PUBLISH
X-ORIGINAL-URL:https://volunteeringact.org.au
X-WR-CALDESC:Events for VolunteeringACT
REFRESH-INTERVAL;VALUE=DURATION:PT1H
X-Robots-Tag:noindex
X-PUBLISHED-TTL:PT1H
BEGIN:VTIMEZONE
TZID:Australia/Sydney
BEGIN:STANDARD
TZOFFSETFROM:+1100
TZOFFSETTO:+1000
TZNAME:AEST
DTSTART:20240406T160000
END:STANDARD
BEGIN:DAYLIGHT
TZOFFSETFROM:+1000
TZOFFSETTO:+1100
TZNAME:AEDT
DTSTART:20241005T160000
END:DAYLIGHT
BEGIN:STANDARD
TZOFFSETFROM:+1100
TZOFFSETTO:+1000
TZNAME:AEST
DTSTART:20250405T160000
END:STANDARD
BEGIN:DAYLIGHT
TZOFFSETFROM:+1000
TZOFFSETTO:+1100
TZNAME:AEDT
DTSTART:20251004T160000
END:DAYLIGHT
BEGIN:STANDARD
TZOFFSETFROM:+1100
TZOFFSETTO:+1000
TZNAME:AEST
DTSTART:20260404T160000
END:STANDARD
BEGIN:DAYLIGHT
TZOFFSETFROM:+1000
TZOFFSETTO:+1100
TZNAME:AEDT
DTSTART:20261003T160000
END:DAYLIGHT
END:VTIMEZONE
BEGIN:VEVENT
DTSTART;TZID=Australia/Sydney:20250204T100000
DTEND;TZID=Australia/Sydney:20250204T120000
DTSTAMP:20260424T130701
CREATED:20241202T010216Z
LAST-MODIFIED:20241202T010216Z
UID:34462-1738663200-1738670400@volunteeringact.org.au
SUMMARY:Introduction to Volunteering - Online Session
DESCRIPTION:What does it mean to volunteer? How do you find the right volunteering role? What are your rights and responsibilities as a volunteer? \nJoin us for a better understanding of what volunteering is and what it involves. This session will cover the fundamentals on how to find a volunteering role\, and what you can expect as you begin your volunteering journey. Attendees will be invited to share their experiences and discuss their volunteering goals. \nOutcomes:\nBy the end of this session\, attendees will: \n\nunderstand what volunteering is;\nunderstand how to find a volunteering role;\nunderstand the rights and responsibilities of volunteers and volunteer involving organisations; and\,\nunderstand what to expect from a volunteering role.\n\nThis training is delivered in an online format via Microsoft Teams. The link will be sent to registered attendees prior to the session. \nVolunteeringACT is committed to inclusion of people of all backgrounds and abilities. Please let us know if you have any access requirements.
URL:https://volunteeringact.org.au/event/introduction-to-volunteering-online-session-7/
LOCATION:Online\, Australia
CATEGORIES:For the Community,For Volunteers,NVW 2021,Volunteering Essentials Workshop
ATTACH;FMTTYPE=image/jpeg:https://volunteeringact.org.au/wp-content/uploads/2021/09/Online-Meeting-1.jpeg
ORGANIZER;CN="VolunteeringACT":MAILTO:events@volunteeringact.org.au
END:VEVENT
END:VCALENDAR